BEGIN:VCALENDAR
VERSION:2.0
PRODID:-//wp-events-plugin.com//7.2.3.1//EN
TZID:Europe/Paris
X-WR-TIMEZONE:Europe/Paris
BEGIN:VEVENT
UID:17@rers-nancy.fr
DTSTART;TZID=Europe/Paris:20220609T200000
DTEND;TZID=Europe/Paris:20220609T220000
DTSTAMP:20220605T083920Z
URL:https://rers-nancy.fr/new2/events/aiguilles-creatives-la-deco-du-jardi
 n-partage/
SUMMARY:Aiguilles créatives : la déco du jardin partagé
DESCRIPTION:\n\nEt voilà\, la nouvelle déco du jardin partagé est mise e
 n place\, un peu rapidement\, et il y a des améliorations à faire !\n\nN
 'hésitez pas à nous rejoindre\, nous aimons les nouveaux(elles) venu(e)s
 \, et les nouveaux projets !
ATTACH;FMTTYPE=image/jpeg:https://rers-nancy.fr/new2/wp-content/uploads/20
 19/05/quatresaisonsPt.png
CATEGORIES:aiguilles créatives
LOCATION:Chez Hélène C\, demander à Hélène\, LAXOU\, 54520\, France
X-APPLE-STRUCTURED-LOCATION;VALUE=URI;X-ADDRESS=demander à Hélène\, LAXO
 U\, 54520\, France;X-APPLE-RADIUS=100;X-TITLE=Chez Hélène C:geo:0,0
END:VEVENT
BEGIN:VTIMEZONE
TZID:Europe/Paris
X-LIC-LOCATION:Europe/Paris
BEGIN:DAYLIGHT
DTSTART:20220327T030000
TZOFFSETFROM:+0100
TZOFFSETTO:+0200
TZNAME:CEST
END:DAYLIGHT
END:VTIMEZONE
END:VCALENDAR