BEGIN:VCALENDAR
VERSION:2.0
PRODID:-//wp-events-plugin.com//7.2.3.1//EN
TZID:Europe/Paris
X-WR-TIMEZONE:Europe/Paris
BEGIN:VEVENT
UID:38@rers-nancy.fr
DTSTART;TZID=Europe/Paris:20221117T200000
DTEND;TZID=Europe/Paris:20221117T220000
DTSTAMP:20221030T095514Z
URL:https://rers-nancy.fr/new2/events/aiguilles-creatives-la-reprise-2/
SUMMARY:Aiguilles créatives : coudre ou tricoter sa propre création
DESCRIPTION:Les aiguilles créatives se réunissent 4 fois par trimestre\, 
 le jeudi soir de 20h à 22h\, salle René Chrétien ou chez Hélène.
CATEGORIES:aiguilles créatives
LOCATION:Salle René Chrétien\, Rue Eugène Corbin\, Nancy\, France
X-APPLE-STRUCTURED-LOCATION;VALUE=URI;X-ADDRESS=Rue Eugène Corbin\, Nancy\
 , France;X-APPLE-RADIUS=100;X-TITLE=Salle René Chrétien:geo:0,0
END:VEVENT
BEGIN:VTIMEZONE
TZID:Europe/Paris
X-LIC-LOCATION:Europe/Paris
BEGIN:STANDARD
DTSTART:20221030T020000
TZOFFSETFROM:+0200
TZOFFSETTO:+0100
TZNAME:CET
END:STANDARD
END:VTIMEZONE
END:VCALENDAR