BEGIN:VCALENDAR
VERSION:2.0
PRODID:-//wp-events-plugin.com//7.2.3.1//EN
TZID:Europe/Paris
X-WR-TIMEZONE:Europe/Paris
BEGIN:VEVENT
UID:39@rers-nancy.fr
DTSTART;TZID=Europe/Paris:20230112T200000
DTEND;TZID=Europe/Paris:20230112T220000
DTSTAMP:20230112T103527Z
URL:https://rers-nancy.fr/new2/events/aiguilles-creatives-la-reprise-3/
SUMMARY:Aiguilles créatives : chacune sa création
DESCRIPTION:Les aiguilles créatives se réunissent 4 fois par trimestre\, 
 le jeudi soir de 20h à 22h\, salle René Chrétien ou chez Hélène.\n\nC
 haque participante choisit l'ouvrage qu'elle veut créer\, ou l'ensemble d
 es couturières\, tricoteuses et brodeuses travaille sur un ouvrage collec
 tif pour préparer une manifestation\, par exemple.
CATEGORIES:aiguilles créatives
LOCATION:Salle René Chrétien\, Rue Eugène Corbin\, Nancy\, France
X-APPLE-STRUCTURED-LOCATION;VALUE=URI;X-ADDRESS=Rue Eugène Corbin\, Nancy\
 , France;X-APPLE-RADIUS=100;X-TITLE=Salle René Chrétien:geo:0,0
END:VEVENT
BEGIN:VTIMEZONE
TZID:Europe/Paris
X-LIC-LOCATION:Europe/Paris
BEGIN:STANDARD
DTSTART:20221030T020000
TZOFFSETFROM:+0200
TZOFFSETTO:+0100
TZNAME:CET
END:STANDARD
END:VTIMEZONE
END:VCALENDAR