BEGIN:VCALENDAR
VERSION:2.0
PRODID:-//wp-events-plugin.com//7.2.3.1//EN
TZID:Europe/Paris
X-WR-TIMEZONE:Europe/Paris
BEGIN:VEVENT
UID:1@rers-nancy.fr
DTSTART;TZID=Europe/Paris:20250516T183000
DTEND;TZID=Europe/Paris:20250516T223000
DTSTAMP:20250425T102930Z
URL:https://rers-nancy.fr/new2/events/assemblee-generale-du-rers-nancy/
SUMMARY:Apéro des savoirs
DESCRIPTION:\nNotre équipe d‘animation vous invite à un Apéro des Sa
 voirs\n\nVendredi 16 mai à partir de 18h30\, à la MJC Beauregard - Bus
  T4\, arrêt St Anne - Co-voiturage assuré pour le retour \n\n\nLors de
  cet Apéro des Savoirs\, nous partagerons ce que chacun aura apporté\
 , un petit plat salé ou sucré\, à manger à la main\, et une boisson a
 vec ou sans alcool. Prévoyez éventuellement des plats pour la présenta
 tion et des couverts de service. Sur place\, il y aura verres\, mugs et
  petite vaisselle\, fournis par la MJC. Infusions\, Thé\, Café\, servi
 ettes\, seront apportés par le RERS.  \n \nA l'occasion de cet Apéro 
 des Savoirs\, nous valoriserons les échanges entre les membres\, à 2 ou 
 à plusieurs : chacune et chacun d'entre nous fera part de ses offres\, de
  ses demandes et de ses expériences d'échanges de savoirs. Ce sera une b
 onne occasion de se mettre en relation entre offreurs et demandeurs.\n\nPe
 nsez à inviter proches et/ou amis en leur précisant d'apporter un petit 
 plat et une boisson à partager.\nPour faciliter l’organisation de la sa
 lle\, soyez sympa d'envoyer un mail à rers.nancy@free.fr en précisant si
  vous participez à cet Apéro des Savoirs.\n
CATEGORIES:échanges de savoirs collectifs,Vie associative
LOCATION:MJC Beauregard\, 1 Place Maurice Ravel\, Nancy\, 54000\, France
X-APPLE-STRUCTURED-LOCATION;VALUE=URI;X-ADDRESS=1 Place Maurice Ravel\, Nan
 cy\, 54000\, France;X-APPLE-RADIUS=100;X-TITLE=MJC Beauregard:geo:0,0
END:VEVENT
BEGIN:VTIMEZONE
TZID:Europe/Paris
X-LIC-LOCATION:Europe/Paris
BEGIN:DAYLIGHT
DTSTART:20250330T030000
TZOFFSETFROM:+0100
TZOFFSETTO:+0200
TZNAME:CEST
END:DAYLIGHT
END:VTIMEZONE
END:VCALENDAR