BEGIN:VCALENDAR
VERSION:2.0
PRODID:-//wp-events-plugin.com//7.2.3.1//EN
TZID:Europe/Paris
X-WR-TIMEZONE:Europe/Paris
BEGIN:VEVENT
UID:9@rers-nancy.fr
DTSTART;TZID=Europe/Paris:20220121T200000
DTEND;TZID=Europe/Paris:20220121T220000
DTSTAMP:20220112T141126Z
URL:https://rers-nancy.fr/new2/events/atelier-de-fabrication-de-produits-m
 enagers/
SUMMARY:Atelier de fabrication de produits ménagers
DESCRIPTION:Tiphaine vous propose de venir découvrir comment fabriquer vou
 s-même vos propres produits ménagers :\n\nEn savoir plus
CATEGORIES:échanges de savoirs collectifs
LOCATION:MJC Beauregard\, 1 Place Maurice Ravel\, Nancy\, 54000\, France
X-APPLE-STRUCTURED-LOCATION;VALUE=URI;X-ADDRESS=1 Place Maurice Ravel\, Nan
 cy\, 54000\, France;X-APPLE-RADIUS=100;X-TITLE=MJC Beauregard:geo:0,0
END:VEVENT
BEGIN:VTIMEZONE
TZID:Europe/Paris
X-LIC-LOCATION:Europe/Paris
BEGIN:STANDARD
DTSTART:20211031T020000
TZOFFSETFROM:+0200
TZOFFSETTO:+0100
TZNAME:CET
END:STANDARD
END:VTIMEZONE
END:VCALENDAR