BEGIN:VCALENDAR
VERSION:2.0
PRODID:-//wp-events-plugin.com//7.2.3.1//EN
TZID:Europe/Paris
X-WR-TIMEZONE:Europe/Paris
BEGIN:VEVENT
UID:5@rers-nancy.fr
DTSTART;TZID=Europe/Paris:20220203T200000
DTEND;TZID=Europe/Paris:20220203T220000
DTSTAMP:20220108T145720Z
URL:https://rers-nancy.fr/new2/events/et-si-on-redecouvrait-le-macrame/
SUMMARY:Et si on redécouvrait le macramé ?
DESCRIPTION:Venez redécouvrir le macramé pour confectionner des petits ob
 jets sympathiques en couleur !\n\nAprès un temps de présentation et selo
 n le choix des modèles\, nous fabriquerons des cordes pour nos ouvrages o
 u commencerons de suite une initiation à la création d'un petit tableau 
 en macramé.\n\nApportez ficelle ou fil à broder épais.\nCeux et celles 
 qui préfèrent apporteront leur ouvrage - tricot ou couture.
ATTACH;FMTTYPE=image/jpeg:https://rers-nancy.fr/new2/wp-content/uploads/20
 22/01/macrame-Pt.png
CATEGORIES:échanges de savoirs collectifs
LOCATION:Salle René Chrétien\, Rue Eugène Corbin\, Nancy\, France
X-APPLE-STRUCTURED-LOCATION;VALUE=URI;X-ADDRESS=Rue Eugène Corbin\, Nancy\
 , France;X-APPLE-RADIUS=100;X-TITLE=Salle René Chrétien:geo:0,0
END:VEVENT
BEGIN:VTIMEZONE
TZID:Europe/Paris
X-LIC-LOCATION:Europe/Paris
BEGIN:STANDARD
DTSTART:20211031T020000
TZOFFSETFROM:+0200
TZOFFSETTO:+0100
TZNAME:CET
END:STANDARD
END:VTIMEZONE
END:VCALENDAR