BEGIN:VCALENDAR
VERSION:2.0
PRODID:-//wp-events-plugin.com//7.2.3.1//EN
TZID:Europe/Paris
X-WR-TIMEZONE:Europe/Paris
BEGIN:VEVENT
UID:31@rers-nancy.fr
DTSTART;TZID=Europe/Paris:20220610T180000
DTEND;TZID=Europe/Paris:20220610T223000
DTSTAMP:20220605T083358Z
URL:https://rers-nancy.fr/new2/events/feter-lete/
SUMMARY:Fêter l'été !
DESCRIPTION:\n C’est presque l’été ! Pour fêter ce début d’été 
 et renouveler la dynamique des échanges\, l’équipe d’animation in
 vite tous les adhérents à l’inauguration du nouveau site web suivi d
 ’un repas partagé  Vendredi 10 Juin\, à la MJC Beauregard \, à parti
 r de 18h\, dans la grande salle polyvalente.\nHélène\, conceptrice et r
 éalisatrice de notre nouveau site web\, vous fera une présentation sur g
 rand écran de 18h30 à 19h30. Ce sera l’occasion de découvrir les o
 ffres et demandes de savoirs proposés par les uns et les autres\, de mett
 re un visage sur les offreurs et demandeurs\, et de mieux comprendre comme
 nt fonctionne le site web et notre réseau d’une manière générale.\
 n\n\n\nUne dizaine de nouvelles adhérentes ont rejoint le RERS-Nancy depu
 is début Avril\, et c’est avec grand plaisir que nous élargissons enco
 re notre réseau d’échanges de savoirs. A ce jour nous sommes 39 adhér
 ents.\n\n\n\nPour le repas (vers 19h30)\, chacun apportera un plat salé
  ou sucré\, et une boisson\, à partager avec les autres convives\, ainsi
  que son assiette\, ses couverts et son verre.\n\n\n\nLes conjoint.e.s so
 nt bienvenus bien entendu\, et nous vous encourageons à inviter aussi un.
 e ami.e (sorte de parrainage) pour lui faire découvrir le RERS-Nancy.\n\n
 \n\nMerci de bien vouloir vous inscrire\, ainsi que vos invité.es\, afin
  de faciliter l’organisation de la salle.\n\n\n\nEspérant nous retrouve
 r nombreux pour accueillir les nouveaux.elles adhérent.es\, remercier H
 élène et avoir le plaisir d'échanger dans cette réunion conviviale\, A
  bientôt\, bonne semaine\, Françoise\, Christine\, Mannick\, Marion\, Ma
 rie-Paule\n
CATEGORIES:Vie associative
LOCATION:MJC Beauregard\, 1 Place Maurice Ravel\, Nancy\, 54000\, France
X-APPLE-STRUCTURED-LOCATION;VALUE=URI;X-ADDRESS=1 Place Maurice Ravel\, Nan
 cy\, 54000\, France;X-APPLE-RADIUS=100;X-TITLE=MJC Beauregard:geo:0,0
END:VEVENT
BEGIN:VTIMEZONE
TZID:Europe/Paris
X-LIC-LOCATION:Europe/Paris
BEGIN:DAYLIGHT
DTSTART:20220327T030000
TZOFFSETFROM:+0100
TZOFFSETTO:+0200
TZNAME:CEST
END:DAYLIGHT
END:VTIMEZONE
END:VCALENDAR