BEGIN:VCALENDAR
VERSION:2.0
PRODID:-//wp-events-plugin.com//7.2.3.1//EN
TZID:Europe/Paris
X-WR-TIMEZONE:Europe/Paris
BEGIN:VEVENT
UID:20@rers-nancy.fr
DTSTART;TZID=Europe/Paris:20220315T200000
DTEND;TZID=Europe/Paris:20220315T220000
DTSTAMP:20220309T154729Z
URL:https://rers-nancy.fr/new2/events/formation-a-libre-office/
SUMMARY:Formation à Libre Office
DESCRIPTION:Christophe se propose de partager ses connaissances et son sa
 voir-faire en Bureautique pour l’utilisation du logiciel LIBRE OFFICE.
  \n\nMARDI 15 MARS\, de 20h à 22h\, à la MJC Beauregard  (Bus 4\, arr
 êt Saint Anne) \n \nLe co-voiturage sera possible pour le retour. \n\
 n\n 	LibreOffice offre une alternative intéressante et gratuite à la s
 uite logicielle Office de Microsoft. Il peut être téléchargé gratuitem
 ent sur son ordinateur.\n 	Avec LibreOffice on peut lire et écrire  des 
 textes\, des tableaux ou des présentations dans tous les formats standar
 ds (.odt  .ods mais aussi ..doc .docx .xl .xls .pps....)\n 	 La suite L
 ibreOffice se compose de Writer (équivalent de Word)\, Calc (équivalent 
 d'Excel)\, Impress (équivalent de Powerpoint)\, Draw\, Math et Base.\n 
 	LibreOffice fonctionne sur tous les systèmes (Microsoft Windows\, Linux\
 , Apple).\n\nNous verrons comment installer LibreOffice sur son ordinateur
  et comment s'en servir. \nSi possible\, apporter son ordinateur et de 
 quoi recharger sa batterie si besoin. \nLe groupe pourra être de 8-10 p
 ersonnes max.\n \nMERCI DE VOUS INSCRIRE auprès de Christophe en lui a
 dressant un mail à  cterrier@yahoo.fr\nPrécisez dans votre mail si vou
 s souhaitez le co-voiturage pour votre retour. \n \n\nChristophe TERRIER
 \ncterrier@yahoo.fr\n+33  6 25 83 44 62\n
CATEGORIES:échanges de savoirs collectifs
LOCATION:MJC Beauregard\, 1 Place Maurice Ravel\, Nancy\, 54000\, France
X-APPLE-STRUCTURED-LOCATION;VALUE=URI;X-ADDRESS=1 Place Maurice Ravel\, Nan
 cy\, 54000\, France;X-APPLE-RADIUS=100;X-TITLE=MJC Beauregard:geo:0,0
END:VEVENT
BEGIN:VTIMEZONE
TZID:Europe/Paris
X-LIC-LOCATION:Europe/Paris
BEGIN:STANDARD
DTSTART:20211031T020000
TZOFFSETFROM:+0200
TZOFFSETTO:+0100
TZNAME:CET
END:STANDARD
END:VTIMEZONE
END:VCALENDAR