BEGIN:VCALENDAR
VERSION:2.0
PRODID:-//wp-events-plugin.com//7.2.3.1//EN
TZID:Europe/Paris
X-WR-TIMEZONE:Europe/Paris
BEGIN:VEVENT
UID:122@rers-nancy.fr
DTSTART;TZID=Europe/Paris:20231009T200000
DTEND;TZID=Europe/Paris:20231009T220000
DTSTAMP:20231003T160202Z
URL:https://rers-nancy.fr/new2/events/groupe-cuisine-une-premiere-rencontr
 e/
SUMMARY:Groupe "cuisine" : une première rencontre
DESCRIPTION:Les cuisiniers confirmés ou débutants\, pour une cuisine fran
 çaise ou du monde\, pour découvrir ou montrer des nouvelles recettes : u
 n groupe qui promet d'être dynamique ! et délicieux !
CATEGORIES:Cuisine
LOCATION:MJC Beauregard\, 1 Place Maurice Ravel\, Nancy\, 54000\, France
X-APPLE-STRUCTURED-LOCATION;VALUE=URI;X-ADDRESS=1 Place Maurice Ravel\, Nan
 cy\, 54000\, France;X-APPLE-RADIUS=100;X-TITLE=MJC Beauregard:geo:0,0
END:VEVENT
BEGIN:VTIMEZONE
TZID:Europe/Paris
X-LIC-LOCATION:Europe/Paris
BEGIN:DAYLIGHT
DTSTART:20230326T030000
TZOFFSETFROM:+0100
TZOFFSETTO:+0200
TZNAME:CEST
END:DAYLIGHT
END:VTIMEZONE
END:VCALENDAR