BEGIN:VCALENDAR
VERSION:2.0
PRODID:-//wp-events-plugin.com//7.2.3.1//EN
TZID:Europe/Paris
X-WR-TIMEZONE:Europe/Paris
BEGIN:VEVENT
UID:52@rers-nancy.fr
DTSTART;TZID=Europe/Paris:20230215T140000
DTEND;TZID=Europe/Paris:20230215T163000
DTSTAMP:20230214T111013Z
URL:https://rers-nancy.fr/new2/events/la-marche-du-mercredi-14/
SUMMARY:La marche du mercredi : Essey - Saint-Max par Dommartemont
DESCRIPTION:Nous partirons à 14h de l'église Saint-Georges à Essey les N
 ancy pour traverser les hauteurs d'Essey et Saint-Max avant d'arriver à D
 ommartemont sur la montagne Sainte-Geneviève.\n\n1er mars : Ludres et le 
 camp d'Affrique\n\n15 mars : de Champigneulles à Pixérécourt\n\n29 mars
  : Randonnée Faulx-Malleloy\n\n12 avril : De la Basse Lay au Bois de Chav
 enois\n\n26 avril : de Gondreville à Villers le Sec\n\npour les balades s
 uivantes\, 10 et 24 mai\, 7 et 21 juin\, 5 et 12 juillet\, le programme n'
 est pas encore défini !
CATEGORIES:Marche
LOCATION:A définir\, A definir\, Nancy\, France
X-APPLE-STRUCTURED-LOCATION;VALUE=URI;X-ADDRESS=A definir\, Nancy\, France;
 X-APPLE-RADIUS=100;X-TITLE=A définir:geo:0,0
END:VEVENT
BEGIN:VTIMEZONE
TZID:Europe/Paris
X-LIC-LOCATION:Europe/Paris
BEGIN:STANDARD
DTSTART:20221030T020000
TZOFFSETFROM:+0200
TZOFFSETTO:+0100
TZNAME:CET
END:STANDARD
END:VTIMEZONE
END:VCALENDAR