BEGIN:VCALENDAR
VERSION:2.0
PRODID:-//wp-events-plugin.com//7.2.3.1//EN
TZID:Europe/Paris
X-WR-TIMEZONE:Europe/Paris
BEGIN:VEVENT
UID:53@rers-nancy.fr
DTSTART;TZID=Europe/Paris:20230301T140000
DTEND;TZID=Europe/Paris:20230301T163000
DTSTAMP:20230227T132811Z
URL:https://rers-nancy.fr/new2/events/la-marche-du-mercredi-15/
SUMMARY:La marche du mercredi : Ludres et Camp d'Affrique
DESCRIPTION:Ce mercredi 1er mars\, la randonnée se déroulera à Ludres.\n
 Le point de départ est le parking sur la place Ferri de Ludre à Ludres\,
  à 14h.\nPas de point de rendez-vous dans Nancy pour faire du co-voiturag
 e : pour une distance si petite\, cela risque de faire faire du chemin en 
 plus selon où on habite dans l'agglomération.\nLe temps devrait être su
 perbe.\nTélécharger le plan de la balade\nNos marches du mercredi ont li
 eu tous les 15 jours.\n\n1er mars : Ludres et le camp d'Affrique\n\n15 mar
 s : de Champigneulles à Pixérécourt\n\n29 mars : Randonnée Faulx-Malle
 loy\n\n12 avril : De la Basse Lay au Bois de Chavenois\n\n26 avril : de Go
 ndreville à Villers le Sec\n\npour les balades suivantes\, 10 et 24 mai\,
  7 et 21 juin\, 5 et 12 juillet\, le programme n'est pas encore défini !\
 n\n&nbsp\;
CATEGORIES:Marche
LOCATION:Précisé dans l'événement\, A definir\, Nancy\, France
X-APPLE-STRUCTURED-LOCATION;VALUE=URI;X-ADDRESS=A definir\, Nancy\, France;
 X-APPLE-RADIUS=100;X-TITLE=Précisé dans l'événement:geo:0,0
END:VEVENT
BEGIN:VTIMEZONE
TZID:Europe/Paris
X-LIC-LOCATION:Europe/Paris
BEGIN:STANDARD
DTSTART:20221030T020000
TZOFFSETFROM:+0200
TZOFFSETTO:+0100
TZNAME:CET
END:STANDARD
END:VTIMEZONE
END:VCALENDAR