BEGIN:VCALENDAR
VERSION:2.0
PRODID:-//wp-events-plugin.com//7.2.3.1//EN
TZID:Europe/Paris
X-WR-TIMEZONE:Europe/Paris
BEGIN:VEVENT
UID:54@rers-nancy.fr
DTSTART;TZID=Europe/Paris:20230315T140000
DTEND;TZID=Europe/Paris:20230315T163000
DTSTAMP:20230313T152209Z
URL:https://rers-nancy.fr/new2/events/la-marche-du-mercredi-16/
SUMMARY:La marche du mercredi : Champigneulles - Pixérécourt
DESCRIPTION:Cette marche nous conduira du château de Champigneulles à cel
 ui de Pixérécourt en passant derrière les brasseries.\n\nRendez-vous : 
 Parking du Lidl rue de Metz à Maxéville à 14h00\n\nNos marches du mercr
 edi ont lieu tous les 15 jours.\n\n15 février : Essey- Saint-Max par Domm
 artemont\n\n1er mars : Ludres et le camp d'Affrique\n\n15 mars : de Champi
 gneulles à Pixérécourt\n\n29 mars : Randonnée Faulx-Malleloy\n\n12 avr
 il : De la Basse Lay au Bois de Chavenois\n\n26 avril : de Gondreville à 
 Villers le Sec\n\npour les balades suivantes\, 10 et 24 mai\, 7 et 21 juin
 \, 5 et 12 juillet\, le programme n'est pas encore défini !
CATEGORIES:Marche
LOCATION:A définir\, A definir\, Nancy\, France
X-APPLE-STRUCTURED-LOCATION;VALUE=URI;X-ADDRESS=A definir\, Nancy\, France;
 X-APPLE-RADIUS=100;X-TITLE=A définir:geo:0,0
END:VEVENT
BEGIN:VTIMEZONE
TZID:Europe/Paris
X-LIC-LOCATION:Europe/Paris
BEGIN:STANDARD
DTSTART:20221030T020000
TZOFFSETFROM:+0200
TZOFFSETTO:+0100
TZNAME:CET
END:STANDARD
END:VTIMEZONE
END:VCALENDAR