BEGIN:VCALENDAR
VERSION:2.0
PRODID:-//wp-events-plugin.com//7.2.3.1//EN
TZID:Europe/Paris
X-WR-TIMEZONE:Europe/Paris
BEGIN:VEVENT
UID:73@rers-nancy.fr
DTSTART;TZID=Europe/Paris:20230207T200000
DTEND;TZID=Europe/Paris:20230207T200000
DTSTAMP:20230127T161329Z
URL:https://rers-nancy.fr/new2/events/les-jeux-de-societe/
SUMMARY:Les jeux de société :
DESCRIPTION:Pascal\, passionné de jeux de société\, vous propose une nou
 velle soirée JEUX DE SOCIETE\,\nMARDI 7 Février à 20h - MJC Beauregard 
 - (bus T4 arrêt St Anne)- Co-voiturage assuré pour le retour\n
CATEGORIES:jeux de société
LOCATION:MJC Beauregard\, 1 Place Maurice Ravel\, Nancy\, 54000\, France
X-APPLE-STRUCTURED-LOCATION;VALUE=URI;X-ADDRESS=1 Place Maurice Ravel\, Nan
 cy\, 54000\, France;X-APPLE-RADIUS=100;X-TITLE=MJC Beauregard:geo:0,0
END:VEVENT
BEGIN:VTIMEZONE
TZID:Europe/Paris
X-LIC-LOCATION:Europe/Paris
BEGIN:STANDARD
DTSTART:20221030T020000
TZOFFSETFROM:+0200
TZOFFSETTO:+0100
TZNAME:CET
END:STANDARD
END:VTIMEZONE
END:VCALENDAR