BEGIN:VCALENDAR
VERSION:2.0
PRODID:-//wp-events-plugin.com//7.2.3.1//EN
TZID:Europe/Paris
X-WR-TIMEZONE:Europe/Paris
BEGIN:VEVENT
UID:236@rers-nancy.fr
DTSTART;TZID=Europe/Paris:20260325T134500
DTEND;TZID=Europe/Paris:20260325T163000
DTSTAMP:20260117T105624Z
URL:https://rers-nancy.fr/new2/events/marche-du-mercredi-25-mars-2026/
SUMMARY:Marche du mercredi : 25 mars 2026
DESCRIPTION:Les dates de nos prochaines marches. pour le 15 janvier\, le pr
 ogramme sera défini en fonction de la météo !
CATEGORIES:Marche
LOCATION:Précisé dans l'événement\, A definir\, Nancy\, France
X-APPLE-STRUCTURED-LOCATION;VALUE=URI;X-ADDRESS=A definir\, Nancy\, France;
 X-APPLE-RADIUS=100;X-TITLE=Précisé dans l'événement:geo:0,0
END:VEVENT
BEGIN:VTIMEZONE
TZID:Europe/Paris
X-LIC-LOCATION:Europe/Paris
BEGIN:STANDARD
DTSTART:20251026T020000
TZOFFSETFROM:+0200
TZOFFSETTO:+0100
TZNAME:CET
END:STANDARD
END:VTIMEZONE
END:VCALENDAR