BEGIN:VCALENDAR
VERSION:2.0
PRODID:-//wp-events-plugin.com//7.2.3.1//EN
TZID:Europe/Paris
X-WR-TIMEZONE:Europe/Paris
BEGIN:VEVENT
UID:41@rers-nancy.fr
DTSTART;TZID=Europe/Paris:20250917T140000
DTEND;TZID=Europe/Paris:20250917T163000
DTSTAMP:20250914T162546Z
URL:https://rers-nancy.fr/new2/events/marchons-ensemble-cest-reparti/
SUMMARY:La marche du mercredi : c'est reparti !
DESCRIPTION:Ce mercredi 17 septembre 2025\, nous retournerons dans la forê
 t de Haye à proximité de la Sapinière.\n\nDépart : parking de co-voitu
 rage d'Auchan-Sapinière à 14h\nCo-voiturage possible à partir du parkin
 g du Match de Médreville.
CATEGORIES:Marche
LOCATION:MJC Beauregard\, 1 Place Maurice Ravel\, Nancy\, 54000\, France
X-APPLE-STRUCTURED-LOCATION;VALUE=URI;X-ADDRESS=1 Place Maurice Ravel\, Nan
 cy\, 54000\, France;X-APPLE-RADIUS=100;X-TITLE=MJC Beauregard:geo:0,0
END:VEVENT
BEGIN:VTIMEZONE
TZID:Europe/Paris
X-LIC-LOCATION:Europe/Paris
BEGIN:DAYLIGHT
DTSTART:20250330T030000
TZOFFSETFROM:+0100
TZOFFSETTO:+0200
TZNAME:CEST
END:DAYLIGHT
END:VTIMEZONE
END:VCALENDAR