BEGIN:VCALENDAR
VERSION:2.0
PRODID:-//wp-events-plugin.com//7.2.3.1//EN
TZID:Europe/Paris
X-WR-TIMEZONE:Europe/Paris
BEGIN:VEVENT
UID:67@rers-nancy.fr
DTSTART;TZID=Europe/Paris:20221020T190000
DTEND;TZID=Europe/Paris:20221020T200000
DTSTAMP:20221010T142038Z
URL:https://rers-nancy.fr/new2/events/nancy-bidouille/
SUMMARY:Nancy bidouille !
DESCRIPTION:Christophe vous propose de vous faire découvrir le Nancy Bidou
 ille (NYBI)\nLe jeudi 20 Octobre\, de 19h à 20h\n49 bd d'Austrasie - NANC
 Y\n (LF2L\, en face de l'Autre Canal\, derrière la grande halle de l’Oc
 troi —  tram T1 arrêt St Georges)\n\n\nLe NYBI (Nancy Bidouille) est u
 n FabLab associatif.  "Fab" car il s'agit de fabriquer des objets\, "Lab"
  marque le côté expérimental et innovant.\nLe but de l'association est 
 de "diffuser le savoir faire soi-même et faciliter le faire soi-même”
 .\nConcrètement nous utilisons des machines à commande numérique\, esse
 ntiellement découpeuse laser et imprimante 3D.\n\nLors de cette visite je
  me propose de vous expliquer simplement comment fonctionnent une découpe
 use laser et une imprimante 3D \, quelles sortes d’objets nous fabriquon
 s\, et pourquoi tout le monde peut s'y mettre.\n\n\n\n\nL’inscription es
 t obligatoire pour des questions d’organisation\, notamment de co-voitur
 age. INSCRIVEZ VOUS EN CLIQUANT ICI\n\nSi vous souhaitez un co-voiturage
 \, merci de répondre à ce mail par retour.\n\n
CATEGORIES:échanges de savoirs collectifs
LOCATION:Précisé dans l'événement\, A definir\, Nancy\, France
X-APPLE-STRUCTURED-LOCATION;VALUE=URI;X-ADDRESS=A definir\, Nancy\, France;
 X-APPLE-RADIUS=100;X-TITLE=Précisé dans l'événement:geo:0,0
END:VEVENT
BEGIN:VTIMEZONE
TZID:Europe/Paris
X-LIC-LOCATION:Europe/Paris
BEGIN:DAYLIGHT
DTSTART:20220327T030000
TZOFFSETFROM:+0100
TZOFFSETTO:+0200
TZNAME:CEST
END:DAYLIGHT
END:VTIMEZONE
END:VCALENDAR