BEGIN:VCALENDAR
VERSION:2.0
PRODID:-//wp-events-plugin.com//7.2.3.1//EN
TZID:Europe/Paris
X-WR-TIMEZONE:Europe/Paris
BEGIN:VEVENT
UID:8@rers-nancy.fr
DTSTART;TZID=Europe/Paris:20220120T200000
DTEND;TZID=Europe/Paris:20220120T220000
DTSTAMP:20220109T103935Z
URL:https://rers-nancy.fr/new2/events/recyclage-textiles/
SUMMARY:Recyclage textiles
DESCRIPTION:le jeudi 20 janvier\, autour du thème de la récup' et du recy
 clage\, nous élaborerons plusieurs projets de créations textiles.\n\nVou
 s pouvez apporter les textiles que vous voulez transformer : vêtements\, 
 linge de maison\, restes de couture\, etc.
ATTACH;FMTTYPE=image/jpeg:https://rers-nancy.fr/new2/wp-content/uploads/20
 22/01/tricot-urbain-1pt.png
CATEGORIES:aiguilles créatives,co-construction de savoirs
LOCATION:Salle René Chrétien\, Rue Eugène Corbin\, Nancy\, France
X-APPLE-STRUCTURED-LOCATION;VALUE=URI;X-ADDRESS=Rue Eugène Corbin\, Nancy\
 , France;X-APPLE-RADIUS=100;X-TITLE=Salle René Chrétien:geo:0,0
END:VEVENT
BEGIN:VTIMEZONE
TZID:Europe/Paris
X-LIC-LOCATION:Europe/Paris
BEGIN:STANDARD
DTSTART:20211031T020000
TZOFFSETFROM:+0200
TZOFFSETTO:+0100
TZNAME:CET
END:STANDARD
END:VTIMEZONE
END:VCALENDAR