BEGIN:VCALENDAR
VERSION:2.0
PRODID:-//wp-events-plugin.com//7.2.3.1//EN
TZID:Europe/Paris
X-WR-TIMEZONE:Europe/Paris
BEGIN:VEVENT
UID:66@rers-nancy.fr
DTSTART;TZID=Europe/Paris:20221005T200000
DTEND;TZID=Europe/Paris:20221005T223000
DTSTAMP:20220929T133824Z
URL:https://rers-nancy.fr/new2/events/rencontre-dautomne/
SUMMARY:Rencontre d'automne
DESCRIPTION:Françoise\, Christine et Hélène vous invitent à une renco
 ntre ludique\, conviviale et animée\n\n&nbsp\;\nle mercredi 5 octobre de 
 20h à 22h\, salle René Chrétien (dite des Gais Lurons)\, 43-45 rue Eug
 ène Corbin\, Nancy (Bus T4\, arrêt St Anne)\n\n\n\nAu programme : écha
 nges sur nos savoirs grâce à un jeu\, informations diverses sur la vie d
 e l'association\, partage de gâteaux et de boissons.\n\n&nbsp\;\n\n\nN'h
 ésitez pas à inviter autour de vous pour une découverte du Réseau d'Ec
 hanges de Savoirs de Nancy.\n \nCe sera aussi l’occasion de RENOUVELER 
 VOTRE ADHESION pour l’année 2022-23 - 5€/an en espèces de préféren
 ce.  \n
ATTACH;FMTTYPE=image/jpeg:https://rers-nancy.fr/new2/wp-content/uploads/20
 21/09/boursesavoirshorizontalePt.png
CATEGORIES:Vie associative
LOCATION:MJC Beauregard\, 1 Place Maurice Ravel\, Nancy\, 54000\, France
X-APPLE-STRUCTURED-LOCATION;VALUE=URI;X-ADDRESS=1 Place Maurice Ravel\, Nan
 cy\, 54000\, France;X-APPLE-RADIUS=100;X-TITLE=MJC Beauregard:geo:0,0
END:VEVENT
BEGIN:VTIMEZONE
TZID:Europe/Paris
X-LIC-LOCATION:Europe/Paris
BEGIN:DAYLIGHT
DTSTART:20220327T030000
TZOFFSETFROM:+0100
TZOFFSETTO:+0200
TZNAME:CEST
END:DAYLIGHT
END:VTIMEZONE
END:VCALENDAR