BEGIN:VCALENDAR
VERSION:2.0
PRODID:-//wp-events-plugin.com//7.2.3.1//EN
TZID:Europe/Paris
X-WR-TIMEZONE:Europe/Paris
BEGIN:VEVENT
UID:12@rers-nancy.fr
DTSTART;TZID=Europe/Paris:20220221T200000
DTEND;TZID=Europe/Paris:20220221T220000
DTSTAMP:20220221T204321Z
URL:https://rers-nancy.fr/new2/events/rencontre-pour-organiser-les-prochai
 ns-savoirs-en-fete/
SUMMARY:Rencontre pour organiser les prochains savoirs en fête
DESCRIPTION:Il s’agit d’organiser une nouvelle Fête des Savoirs\, sous
  forme d'exposition\, qui ferait la promotion des échanges et du partage 
 des Savoirs avec un accent sur " Récup' et Recyclage “.\n\nCet évènem
 ent aurait lieu le week-end du 15 et 16 octobre 2022. Nous avons pris une 
 option sur une grande salle à Gentilly.\n\nNous souhaitons dans l’immé
 diat constituer un petit groupe de réflexion pour lancer les bases de l
 ’élaboration et du choix des participants\, artisans et artistes\, entr
 eprises\, etc.\, à inviter.  Nous réfléchirons également au rôle de
  l'association "Bipolaire ? Si tu savais" dans cette exposition.
ATTACH;FMTTYPE=image/jpeg:https://rers-nancy.fr/new2/wp-content/uploads/20
 22/02/savoirs-en-fete-inscriptions-2Pt.png
CATEGORIES:Vie associative
LOCATION:MJC Beauregard\, 1 Place Maurice Ravel\, Nancy\, 54000\, France
X-APPLE-STRUCTURED-LOCATION;VALUE=URI;X-ADDRESS=1 Place Maurice Ravel\, Nan
 cy\, 54000\, France;X-APPLE-RADIUS=100;X-TITLE=MJC Beauregard:geo:0,0
END:VEVENT
BEGIN:VTIMEZONE
TZID:Europe/Paris
X-LIC-LOCATION:Europe/Paris
BEGIN:STANDARD
DTSTART:20211031T020000
TZOFFSETFROM:+0200
TZOFFSETTO:+0100
TZNAME:CET
END:STANDARD
END:VTIMEZONE
END:VCALENDAR