BEGIN:VCALENDAR
VERSION:2.0
PRODID:-//wp-events-plugin.com//7.2.3.1//EN
TZID:Europe/Paris
X-WR-TIMEZONE:Europe/Paris
BEGIN:VEVENT
UID:23@rers-nancy.fr
DTSTART;TZID=Europe/Paris:20220407T200000
DTEND;TZID=Europe/Paris:20220407T220000
DTSTAMP:20220401T135636Z
URL:https://rers-nancy.fr/new2/events/une-petite-seance-de-do-in/
SUMMARY:Une petite séance de do-in ?
DESCRIPTION:Kathy vous propose de vous initier au DO IN \;  \n \nJEUDI 7
  AVRIL \, de 20h à 22h\, à la salle René Chrétien (43 rue Eugène Corb
 in\, Nancy)    cliquez  ICI    (BUS 4\, arrêt St Anne) - 3mnn à p
 ied de l’arrêt St Anne\n\nLe Do IN est une technique d'auto massage et
  de stimulation des méridiens .\nIl consiste en une série d'exercices vi
 sant à harmoniser l'énergie par le biais d'effleurements\, de tapotement
 s et de frictions sur des points méridiens.\nIl permet notamment de relâ
 cher les tensions musculaires et d améliorer la circulation sanguine.\nIl
  permet également une meilleure connaissance de soi.Cet atelier peut acc
 ueillir 7 personnes max. 1er inscrit\, 1er servi! Merci de VOUS INSCRIRE 
 auprès de Christine Landon &lt\;christine.landon@laposte.net&gt\;\n\n
CATEGORIES:échanges de savoirs collectifs
LOCATION:Salle René Chrétien\, Rue Eugène Corbin\, Nancy\, France
X-APPLE-STRUCTURED-LOCATION;VALUE=URI;X-ADDRESS=Rue Eugène Corbin\, Nancy\
 , France;X-APPLE-RADIUS=100;X-TITLE=Salle René Chrétien:geo:0,0
END:VEVENT
BEGIN:VTIMEZONE
TZID:Europe/Paris
X-LIC-LOCATION:Europe/Paris
BEGIN:DAYLIGHT
DTSTART:20220327T030000
TZOFFSETFROM:+0100
TZOFFSETTO:+0200
TZNAME:CEST
END:DAYLIGHT
END:VTIMEZONE
END:VCALENDAR