BEGIN:VCALENDAR
VERSION:2.0
PRODID:-//wp-events-plugin.com//7.2.3.1//EN
TZID:Europe/Paris
X-WR-TIMEZONE:Europe/Paris
BEGIN:VEVENT
UID:188@rers-nancy.fr
DTSTART;TZID=Europe/Paris:20240528T200000
DTEND;TZID=Europe/Paris:20240528T220000
DTSTAMP:20240519T173607Z
URL:https://rers-nancy.fr/new2/events/une-soiree-jeux-de-societe-2/
SUMMARY:une soirée jeux de société
DESCRIPTION:Une nouvelle soirée conviviale et animée autour de nos jeux d
 e société préférés
CATEGORIES:jeux de société
LOCATION:MJC Beauregard\, 1 Place Maurice Ravel\, Nancy\, 54000\, France
X-APPLE-STRUCTURED-LOCATION;VALUE=URI;X-ADDRESS=1 Place Maurice Ravel\, Nan
 cy\, 54000\, France;X-APPLE-RADIUS=100;X-TITLE=MJC Beauregard:geo:0,0
END:VEVENT
BEGIN:VTIMEZONE
TZID:Europe/Paris
X-LIC-LOCATION:Europe/Paris
BEGIN:DAYLIGHT
DTSTART:20240331T030000
TZOFFSETFROM:+0100
TZOFFSETTO:+0200
TZNAME:CEST
END:DAYLIGHT
END:VTIMEZONE
END:VCALENDAR